BEGIN:VCALENDAR
VERSION:2.0
PRODID:-//greenbankservicesclub.com.au NONSGML v1.0//EN
BEGIN:VTIMEZONE
TZID:E. Australia Standard Time
X-EM-DISPLAYNAME:(UTC+10:00) Brisbane
BEGIN:STANDARD
TZNAME:E. Australia Standard Time
DTSTART:19600101T000000
TZOFFSETFROM:+1000
TZOFFSETTO:+1000
END:STANDARD
END:VTIMEZONE
BEGIN:VEVENT
UID:greenbankservicesclub.com.au
DTSTAMP:20260420T211917
DTSTART;TZID=UTC:20260417T160000
DTEND;TZID=UTC:20260417T200000
LOCATION:Lounge
SUMMARY:Arthur Bristowe
URL:http://greenbankservicesclub.com.au//Whats-On/Arthur-Bristowe
DESCRIPTION:Cue the music, the weekend is finally here! Kick off the weekend with an afternoon of live entertainment ft Arthur Bristowe!
Arthur's captivating voice takes listeners on a journey, seamlessly blending Soul and R&B into a wide range of genres with his distinctive style.
Arthur has captivated audiences worldwide, with his videos going viral on social media, amassing millions of views and earning him a dedicated global fanbase!
Play Local at #yourNEWGreenbank Where the Grass is GreenerFree live event for all members and guests \n\nhttp://greenbankservicesclub.com.au/Whats-On/Arthur-Bristowe
X-ALT-DESC;FMTTYPE=text/html:<p>Cue the music, the weekend is finally here! Kick off the weekend with an afternoon of live entertainment ft Arthur Bristowe!</p><p>Arthur's captivating voice takes listeners on a journey, seamlessly blending Soul and R&B into a wide range of genres with his distinctive style.</p><p>Arthur has captivated audiences worldwide, with his videos going viral on social media, amassing millions of views and earning him a dedicated global fanbase!</p><p>Play Local at #yourNEWGreenbank Where the Grass is Greener<br />Free live event for all members and guests</p> \n\nhttp://greenbankservicesclub.com.au/Whats-On/Arthur-Bristowe
END:VEVENT
END:VCALENDAR