BEGIN:VCALENDAR
VERSION:2.0
PRODID:-//greenbankservicesclub.com.au NONSGML v1.0//EN
BEGIN:VTIMEZONE
TZID:E. Australia Standard Time
X-EM-DISPLAYNAME:(UTC+10:00) Brisbane
BEGIN:STANDARD
TZNAME:E. Australia Standard Time
DTSTART:19600101T000000
TZOFFSETFROM:+1000
TZOFFSETTO:+1000
END:STANDARD
END:VTIMEZONE
BEGIN:VEVENT
UID:greenbankservicesclub.com.au
DTSTAMP:20260420T032853
DTSTART;TZID=UTC:20260424T193000
DTEND;TZID=UTC:20260424T213000
LOCATION:The Lounge
SUMMARY:Boy vs Girl Bands Pop Culture Trivia 
URL:http://greenbankservicesclub.com.au//Whats-On/Boy-vs-Girl-Bands-Pop-Culture-Trivia-
DESCRIPTION:Hosted by comedian Mike Van Acker PLUS $500 cash to be won!

Sharpen up your knowledge on the world phenomenon that was Boy Bands & Girl Bands!
 
Throwback to when Backstreet Boys, Spice Girls, NKOTB & so many others were dominating the charts!
 
Free entry for all Members and Guests. 
 \n\nhttp://greenbankservicesclub.com.au/Whats-On/Boy-vs-Girl-Bands-Pop-Culture-Trivia-
X-ALT-DESC;FMTTYPE=text/html:<p>Hosted by comedian Mike Van Acker PLUS $500 cash to be won!</p><div><div class="x11i5rnm xat24cr x1mh8g0r x1vvkbs xtlvy1s">Sharpen up your knowledge on the world phenomenon that was Boy Bands & Girl Bands!</div><div class="x11i5rnm xat24cr x1mh8g0r x1vvkbs xtlvy1s"> </div><div class="x11i5rnm xat24cr x1mh8g0r x1vvkbs xtlvy1s">Throwback to when Backstreet Boys, Spice Girls, NKOTB & so many others were dominating the charts!</div><div class="x11i5rnm xat24cr x1mh8g0r x1vvkbs xtlvy1s"> </div><div>Free entry for all Members and Guests. </div></div> \n\nhttp://greenbankservicesclub.com.au/Whats-On/Boy-vs-Girl-Bands-Pop-Culture-Trivia-
END:VEVENT
END:VCALENDAR