BEGIN:VCALENDAR
VERSION:2.0
PRODID:-//greenbankservicesclub.com.au NONSGML v1.0//EN
BEGIN:VTIMEZONE
TZID:E. Australia Standard Time
X-EM-DISPLAYNAME:(UTC+10:00) Brisbane
BEGIN:STANDARD
TZNAME:E. Australia Standard Time
DTSTART:19600101T000000
TZOFFSETFROM:+1000
TZOFFSETTO:+1000
END:STANDARD
END:VTIMEZONE
BEGIN:VEVENT
UID:greenbankservicesclub.com.au
DTSTAMP:20260423T111659
DTSTART;TZID=UTC:20260620T160000
DTEND;TZID=UTC:20260620T200000
LOCATION:Lounge
SUMMARY:Brett Hammond
URL:http://greenbankservicesclub.com.au//Whats-On/Brett-Hammond-1
DESCRIPTION:Cue the music, the weekend is finally here! Kick off the weekend with an afternoon of live entertainment ft Brett Hammond!
Play Local at #yourNEWGreenbank Where the Grass is Greener
Free live event for all members and guests \n\nhttp://greenbankservicesclub.com.au/Whats-On/Brett-Hammond-1
X-ALT-DESC;FMTTYPE=text/html:<p>Cue the music, the weekend is finally here! Kick off the weekend with an afternoon of live entertainment ft Brett Hammond!</p><p>Play Local at <strong>#yourNEWGreenbank</strong> Where the Grass is Greener</p><p>Free live event for all members and guests</p> \n\nhttp://greenbankservicesclub.com.au/Whats-On/Brett-Hammond-1
END:VEVENT
END:VCALENDAR