BEGIN:VCALENDAR
VERSION:2.0
PRODID:-//greenbankservicesclub.com.au NONSGML v1.0//EN
BEGIN:VTIMEZONE
TZID:E. Australia Standard Time
X-EM-DISPLAYNAME:(UTC+10:00) Brisbane
BEGIN:STANDARD
TZNAME:E. Australia Standard Time
DTSTART:19600101T000000
TZOFFSETFROM:+1000
TZOFFSETTO:+1000
END:STANDARD
END:VTIMEZONE
BEGIN:VEVENT
UID:greenbankservicesclub.com.au
DTSTAMP:20260422T190041
DTSTART;TZID=UTC:20260612T160000
DTEND;TZID=UTC:20260612T191500
LOCATION:Lounge Bar 
SUMMARY:Hayden John 
URL:http://greenbankservicesclub.com.au//Whats-On/Hayden-John-
DESCRIPTION:Time to unwind, sip on your drink of choice and let the live sounds of Hayden John fill the evening!
Songs for everyone and every occasion. From relaxing, melodic ballads to accompany fine dining to sing-a-long classics for a pub or party crowd, Hayden’s ability to read a crowd and play the songs that fit makes him ideal for any situation or setting.
Free live event for all members and guests. Your home of live entertainment!
  \n\nhttp://greenbankservicesclub.com.au/Whats-On/Hayden-John-
X-ALT-DESC;FMTTYPE=text/html:<p>Time to unwind, sip on your drink of choice and let the live sounds of Hayden John fill the evening!</p><p>Songs for everyone and every occasion. From relaxing, melodic ballads to accompany fine dining to sing-a-long classics for a pub or party crowd, Hayden’s ability to read a crowd and play the songs that fit makes him ideal for any situation or setting.</p><p>Free live event for all members and guests. Your home of live entertainment!</p><p> </p> \n\nhttp://greenbankservicesclub.com.au/Whats-On/Hayden-John-
END:VEVENT
END:VCALENDAR