BEGIN:VCALENDAR
VERSION:2.0
PRODID:-//greenbankservicesclub.com.au NONSGML v1.0//EN
BEGIN:VTIMEZONE
TZID:E. Australia Standard Time
X-EM-DISPLAYNAME:(UTC+10:00) Brisbane
BEGIN:STANDARD
TZNAME:E. Australia Standard Time
DTSTART:19600101T000000
TZOFFSETFROM:+1000
TZOFFSETTO:+1000
END:STANDARD
END:VTIMEZONE
BEGIN:VEVENT
UID:greenbankservicesclub.com.au
DTSTAMP:20260420T061151
DTSTART;TZID=UTC:20260624T190000
DTEND;TZID=UTC:20260624T210000
LOCATION:Club Wide
SUMMARY:June General Member Birthday Draws
URL:http://greenbankservicesclub.com.au//Whats-On/June-General-Member-Birthday-Draws
DESCRIPTION:Celebrate Your Birthday Month in Style! 
We’re rolling out a full month of birthday perks just for you! Enjoy exclusive daily discounts across our food and beverage outlets plus earn bonus visitation points every time you drop in.
 On the last Wednesday of the month, the celebrations get even bigger!


From 5 PM: The first 100 birthday members can crack open a mystery prize for instant rewards.


At 7 PM: Be in the running to share in $1,250 cash—every visit during your birthday month earns you an entry, so keep coming back to boost your chances!


You must be present to win. Excludes Seniors Club Members. Terms and conditions apply.
Come celebrate your special month with us—let’s make your birthday unforgettable! \n\nhttp://greenbankservicesclub.com.au/Whats-On/June-General-Member-Birthday-Draws
X-ALT-DESC;FMTTYPE=text/html:<p data-start="77" data-end="128"><strong data-start="80" data-end="123">Celebrate Your Birthday Month in Style!</strong> </p><p data-start="130" data-end="320">We’re rolling out a full month of birthday perks just for you! Enjoy exclusive daily discounts across our food and beverage outlets plus earn bonus visitation points every time you drop in.</p><p data-start="130" data-end="320"><br data-start="342" data-end="345" /> On the <strong data-start="352" data-end="383">last Wednesday of the month</strong>, the celebrations get even bigger!</p><ul data-start="421" data-end="685"><li data-start="421" data-end="522"><p data-start="423" data-end="522"><strong data-start="423" data-end="437">From 5 PM:</strong> The first 100 birthday members can crack open a mystery prize for instant rewards.</p></li><li data-start="523" data-end="685"><p data-start="525" data-end="685"><strong data-start="525" data-end="537">At 7 PM:</strong> Be in the running to share in <strong data-start="568" data-end="583">$1,250 cash</strong>—every visit during your birthday month earns you an entry, so keep coming back to boost your chances!</p></li></ul><p data-start="687" data-end="773">You must be present to win. Excludes Seniors Club Members. Terms and conditions apply.</p><p data-start="775" data-end="860" data-is-last-node="" data-is-only-node="">Come celebrate your special month with us—let’s make your birthday unforgettable!</p> \n\nhttp://greenbankservicesclub.com.au/Whats-On/June-General-Member-Birthday-Draws
END:VEVENT
END:VCALENDAR