BEGIN:VCALENDAR
VERSION:2.0
PRODID:-//greenbankservicesclub.com.au NONSGML v1.0//EN
BEGIN:VTIMEZONE
TZID:E. Australia Standard Time
X-EM-DISPLAYNAME:(UTC+10:00) Brisbane
BEGIN:STANDARD
TZNAME:E. Australia Standard Time
DTSTART:19600101T000000
TZOFFSETFROM:+1000
TZOFFSETTO:+1000
END:STANDARD
END:VTIMEZONE
BEGIN:VEVENT
UID:greenbankservicesclub.com.au
DTSTAMP:20260419T152724
DTSTART;TZID=UTC:20260425T160000
DTEND;TZID=UTC:20260425T200000
LOCATION:Barrel Room
SUMMARY:Kelly Modulon
URL:http://greenbankservicesclub.com.au//Whats-On/Kelly-Modulon
DESCRIPTION:Cue the music, the weekend is finally here! Kick off the weekend with an afternoon of live entertainment ft Kelly Modulon!
 
Play Local at #yourNEWGreenbank Where the Grass is GreenerFree live event for all members and guest \n\nhttp://greenbankservicesclub.com.au/Whats-On/Kelly-Modulon
X-ALT-DESC;FMTTYPE=text/html:<div class="xdj266r x14z9mp xat24cr x1lziwak x1vvkbs">Cue the music, the weekend is finally here! Kick off the weekend with an afternoon of live entertainment ft Kelly Modulon!</div><div class="xdj266r x14z9mp xat24cr x1lziwak x1vvkbs"> </div><div class="x14z9mp xat24cr x1lziwak x1vvkbs xtlvy1s">Play Local at <a class="x1i10hfl xjbqb8w x1ejq31n x18oe1m7 x1sy0etr xstzfhl x972fbf x10w94by x1qhh985 x14e42zd x9f619 x1ypdohk xt0psk2 x3ct3a4 xdj266r x14z9mp xat24cr x1lziwak xexx8yu xyri2b x18d9i69 x1c1uobl x16tdsg8 x1hl2dhg xggy1nq x1a2a7pz xkrqix3 x1sur9pj xzsf02u x1s688f" tabindex="0" href="https://www.facebook.com/hashtag/yournewgreenbank?__eep__=6&__cft__[0]=AZbiJ945pnPssf7EasS7z-DsOPmiJOmMHNDFomQHnXhzO3v_SgZqYeRPzrm9P67mfgD5OCOtx0jgfoDssDo6CfKeIxxmWay9SaiZd8jVpj25ZqPeFWIl5s_7TME20AYe7h1iZz-SXdKLGOJaXGLNwsF2&__tn__=q">#yourNEWGreenbank</a> Where the Grass is Greener<br class="html-br" />Free live event for all members and guest</div> \n\nhttp://greenbankservicesclub.com.au/Whats-On/Kelly-Modulon
END:VEVENT
END:VCALENDAR