BEGIN:VCALENDAR
VERSION:2.0
PRODID:-//greenbankservicesclub.com.au NONSGML v1.0//EN
BEGIN:VTIMEZONE
TZID:E. Australia Standard Time
X-EM-DISPLAYNAME:(UTC+10:00) Brisbane
BEGIN:STANDARD
TZNAME:E. Australia Standard Time
DTSTART:19600101T000000
TZOFFSETFROM:+1000
TZOFFSETTO:+1000
END:STANDARD
END:VTIMEZONE
BEGIN:VEVENT
UID:greenbankservicesclub.com.au
DTSTAMP:20260420T110404
DTSTART;TZID=UTC:20260619T160000
DTEND;TZID=UTC:20260619T200000
LOCATION:Lounge Bar 
SUMMARY:Live entertainment ft Shahn Long
URL:http://greenbankservicesclub.com.au//Whats-On/Live-entertainment-ft-Shahn-Long
DESCRIPTION:Cue the music, the weekend is finally here! Kick off the weekend with an afternoon of live entertainment ft Shahn Itong!
Play Local at #yourNEWGreenbank Where the Grass is GreenerFree live event for all members and guests \n\nhttp://greenbankservicesclub.com.au/Whats-On/Live-entertainment-ft-Shahn-Long
X-ALT-DESC;FMTTYPE=text/html:<p>Cue the music, the weekend is finally here! Kick off the weekend with an afternoon of live entertainment ft Shahn Itong!</p><p>Play Local at #yourNEWGreenbank Where the Grass is Greener<br />Free live event for all members and guests</p> \n\nhttp://greenbankservicesclub.com.au/Whats-On/Live-entertainment-ft-Shahn-Long
END:VEVENT
END:VCALENDAR