BEGIN:VCALENDAR
VERSION:2.0
PRODID:-//greenbankservicesclub.com.au NONSGML v1.0//EN
BEGIN:VTIMEZONE
TZID:E. Australia Standard Time
X-EM-DISPLAYNAME:(UTC+10:00) Brisbane
BEGIN:STANDARD
TZNAME:E. Australia Standard Time
DTSTART:19600101T000000
TZOFFSETFROM:+1000
TZOFFSETTO:+1000
END:STANDARD
END:VTIMEZONE
BEGIN:VEVENT
UID:greenbankservicesclub.com.au
DTSTAMP:20260420T094157
DTSTART;TZID=UTC:20260605T193000
DTEND;TZID=UTC:20260605T220000
LOCATION:The Lounge
SUMMARY:M&M's Boots & Beats Line Dancing ft Griffin County
URL:http://greenbankservicesclub.com.au//Whats-On/MMs-Boots-Beats-Line-Dancing-ft-Griffin-County-2
DESCRIPTION:We are back in the saddle and super excited that M&M's Boots and Beats Line Dancing are on board for our "kick the dust up" line dance parties!
 
So, as the sun sets on the wild south join us for a night of boot scooting fun with a line dancing instructor to show you all the moves with our live band Griffin County.
 
So grab your boots, round up your mates and get ready for an unforgettable night of live music & country fun!
 
Play Local at #yourNEWGreenbank Where the Grass is GreenerFree live event for all members and guests. \n\nhttp://greenbankservicesclub.com.au/Whats-On/MMs-Boots-Beats-Line-Dancing-ft-Griffin-County-2
X-ALT-DESC;FMTTYPE=text/html:<div class="xdj266r x11i5rnm xat24cr x1mh8g0r x1vvkbs">We are back in the saddle and super excited that M&M's Boots and Beats Line Dancing are on board for our "kick the dust up" line dance parties!</div><div class="xdj266r x11i5rnm xat24cr x1mh8g0r x1vvkbs"> </div><div class="xdj266r x11i5rnm xat24cr x1mh8g0r x1vvkbs">So, as the sun sets on the wild south join us for a night of boot scooting fun with a line dancing instructor to show you all the moves with our live band Griffin County.</div><div class="xdj266r x11i5rnm xat24cr x1mh8g0r x1vvkbs"> </div><div class="x11i5rnm xat24cr x1mh8g0r x1vvkbs xtlvy1s">So grab your boots, round up your mates and get ready for an unforgettable night of live music & country fun!</div><div class="x11i5rnm xat24cr x1mh8g0r x1vvkbs xtlvy1s"> </div><div class="x11i5rnm xat24cr x1mh8g0r x1vvkbs xtlvy1s">Play Local at <a class="x1i10hfl xjbqb8w x1ejq31n xd10rxx x1sy0etr x17r0tee x972fbf xcfux6l x1qhh985 xm0m39n x9f619 x1ypdohk xt0psk2 xe8uvvx xdj266r x11i5rnm xat24cr x1mh8g0r xexx8yu x4uap5 x18d9i69 xkhd6sd x16tdsg8 x1hl2dhg xggy1nq x1a2a7pz xkrqix3 x1sur9pj xzsf02u x1s688f" tabindex="0" href="https://www.facebook.com/hashtag/yournewgreenbank?__eep__=6&__cft__[0]=AZXy0hf3a-tCTbe3rTWeQOKusGh4oa8aEsiQT5ktAVc9-zubM6NOfsjaIjYoXJkpE1T-0sF8w2uS62VfZ-nOtqk8GEb2WUNAAqsN5bT1KovDhnmSipHzjxQbWKuvL0POatlHPAofwwgnMhIDwy2mvbWA&__tn__=q">#yourNEWGreenbank</a> Where the Grass is Greener<br class="html-br" />Free live event for all members and guests.</div> \n\nhttp://greenbankservicesclub.com.au/Whats-On/MMs-Boots-Beats-Line-Dancing-ft-Griffin-County-2
END:VEVENT
END:VCALENDAR