BEGIN:VCALENDAR
VERSION:2.0
PRODID:-//greenbankservicesclub.com.au NONSGML v1.0//EN
BEGIN:VTIMEZONE
TZID:E. Australia Standard Time
X-EM-DISPLAYNAME:(UTC+10:00) Brisbane
BEGIN:STANDARD
TZNAME:E. Australia Standard Time
DTSTART:19600101T000000
TZOFFSETFROM:+1000
TZOFFSETTO:+1000
END:STANDARD
END:VTIMEZONE
BEGIN:VEVENT
UID:greenbankservicesclub.com.au
DTSTAMP:20260424T100159
DTSTART;TZID=UTC:20260515T190000
DTEND;TZID=UTC:20260515T230000
LOCATION:Barrell Room 
SUMMARY:Mike Edwards
URL:http://greenbankservicesclub.com.au//Whats-On/Mike-Edwards-1
DESCRIPTION:Cue the music, the weekend is finally here! Kick off the weekend with an afternoon of live entertainment ft Mike Edwards!
 
With over 30 years’ experience in the QLD music industry, this guy knows a crowd. As one part of 90’s Tribute Band- Outshined and cover band Remedy, Mikey will strip it back acoustic style and belt out rock, grunge and everything 90’s.
 
Step into another world upon entering our new spaces: the Glasshouse, Lounge, Sunroom & Barrel Room bars! The perfect blend to make it a perfect weekend!
 
Play Local at #yourNEWGreenbank Where the Grass is GreenerFree live event for all members and guests. \n\nhttp://greenbankservicesclub.com.au/Whats-On/Mike-Edwards-1
X-ALT-DESC;FMTTYPE=text/html:<div class="xdj266r x11i5rnm xat24cr x1mh8g0r x1vvkbs">Cue the music, the weekend is finally here! Kick off the weekend with an afternoon of live entertainment ft Mike Edwards!</div><div class="xdj266r x11i5rnm xat24cr x1mh8g0r x1vvkbs"> </div><div class="x11i5rnm xat24cr x1mh8g0r x1vvkbs xtlvy1s">With over 30 years’ experience in the QLD music industry, this guy knows a crowd. As one part of 90’s Tribute Band- Outshined and cover band Remedy, Mikey will strip it back acoustic style and belt out rock, grunge and everything 90’s.</div><div class="x11i5rnm xat24cr x1mh8g0r x1vvkbs xtlvy1s"> </div><div class="x11i5rnm xat24cr x1mh8g0r x1vvkbs xtlvy1s">Step into another world upon entering our new spaces: the Glasshouse, Lounge, Sunroom & Barrel Room bars! The perfect blend to make it a perfect weekend!</div><div class="x11i5rnm xat24cr x1mh8g0r x1vvkbs xtlvy1s"> </div><div class="x11i5rnm xat24cr x1mh8g0r x1vvkbs xtlvy1s">Play Local at <a class="x1i10hfl xjbqb8w x1ejq31n xd10rxx x1sy0etr x17r0tee x972fbf xcfux6l x1qhh985 xm0m39n x9f619 x1ypdohk xt0psk2 xe8uvvx xdj266r x11i5rnm xat24cr x1mh8g0r xexx8yu x4uap5 x18d9i69 xkhd6sd x16tdsg8 x1hl2dhg xggy1nq x1a2a7pz xkrqix3 x1sur9pj xzsf02u x1s688f" tabindex="0" href="https://www.facebook.com/hashtag/yournewgreenbank?__eep__=6&__cft__[0]=AZXY17jkQMJghTdajsnxQeDzxrierOFV7bICj3daZkvIvJkVQ1xX7hWypTHWvLllqaxA7Fqh4cY7CQJse86dx2uTloFC-28ADu7P-JNi1pLC28-z2o9X1sZYi0GmByHnOC0JImh8uAaJU2kR2ijkXd0D&__tn__=q">#yourNEWGreenbank</a> Where the Grass is Greener<br class="html-br" />Free live event for all members and guests.</div> \n\nhttp://greenbankservicesclub.com.au/Whats-On/Mike-Edwards-1
END:VEVENT
END:VCALENDAR