BEGIN:VCALENDAR
VERSION:2.0
PRODID:-//greenbankservicesclub.com.au NONSGML v1.0//EN
BEGIN:VTIMEZONE
TZID:E. Australia Standard Time
X-EM-DISPLAYNAME:(UTC+10:00) Brisbane
BEGIN:STANDARD
TZNAME:E. Australia Standard Time
DTSTART:19600101T000000
TZOFFSETFROM:+1000
TZOFFSETTO:+1000
END:STANDARD
END:VTIMEZONE
BEGIN:VEVENT
UID:greenbankservicesclub.com.au
DTSTAMP:20260422T093433
DTSTART;TZID=UTC:20260510T070000
DTEND;TZID=UTC:20260510T093000
LOCATION:Bingo Room 
SUMMARY:Mother's Day Breakfast Buffet 
URL:http://greenbankservicesclub.com.au//Whats-On/Mothers-Day-Breakfast-Buffet-
DESCRIPTION:Treat Mum to a special morning out at your 2026 Club of the Year this Mother’s Day with our all you can eat breakfast buffet, filled with delicious breakfast favourites, live entertainment and a few extra surprises to make her feel truly celebrated.
 
Live entertainment featuring Arthur Bristowe, capture the moment in our photo booth with take-home images and make the morning even more memorable with the chance to win one of 10 x Mother’s Day hampers valued at $100 each. Every mum in attendance will automatically receive an entry into the draws. 
 

Adults $65pp I Child $25pp (4-12yrs) I Under 4yrs Free  
Limited seating available. Book now to avoid missing out.
Pre-paid booking on the link below: 
 

Savoury
Scrambled eggs, bacon, eggs royale, chicken chipolatas, smoked salmon, parmesan crusted tomato, hashbrowns, sauteed mushrooms,
baked beans, english muffins, bagels, scones, smoked salmon spread, guacamole and hummus. 
 
Sweets
Pancakes, petite cakes, mini danishes, mini croissants, fruit salad, sweetened yoghurt, granola, whole fruits,
cereals, milks, honey and spreads.
 
Hot & Cold Beverages:
Orange juice, pineapple juice, apple juice, tea and coffee station

 \n\nhttp://greenbankservicesclub.com.au/Whats-On/Mothers-Day-Breakfast-Buffet-
X-ALT-DESC;FMTTYPE=text/html:<div>Treat Mum to a special morning out at your 2026 Club of the Year this Mother’s Day with our all you can eat breakfast buffet, filled with delicious breakfast favourites, live entertainment and a few extra surprises to make her feel truly celebrated.</div><div> </div><div>Live entertainment featuring Arthur Bristowe, capture the moment in our photo booth with take-home images and make the morning even more memorable with the chance to win one of 10 x Mother’s Day hampers valued at $100 each. Every mum in attendance will automatically receive an entry into the draws. </div><div> </div><div><div><strong>Adults $65pp I Child $25pp (4-12yrs) I Under 4yrs Free  </strong></div><div>Limited seating available. Book now to avoid missing out.</div><div>Pre-paid booking on the link below: </div><div> </div><div><div><strong>Savoury</strong></div><div>Scrambled eggs, bacon, eggs royale, chicken chipolatas, smoked salmon, parmesan crusted tomato, hashbrowns, sauteed mushrooms,</div><div>baked beans, english muffins, bagels, scones, smoked salmon spread, guacamole and hummus. </div><div> </div><div><strong>Sweets</strong></div><div>Pancakes, petite cakes, mini danishes, mini croissants, fruit salad, sweetened yoghurt, granola, whole fruits,</div><div>cereals, milks, honey and spreads.</div><div> </div><div><strong>Hot & Cold Beverages:</strong></div><div>Orange juice, pineapple juice, apple juice, tea and coffee station</div></div></div> \n\nhttp://greenbankservicesclub.com.au/Whats-On/Mothers-Day-Breakfast-Buffet-
END:VEVENT
END:VCALENDAR