BEGIN:VCALENDAR
VERSION:2.0
PRODID:-//greenbankservicesclub.com.au NONSGML v1.0//EN
BEGIN:VTIMEZONE
TZID:E. Australia Standard Time
X-EM-DISPLAYNAME:(UTC+10:00) Brisbane
BEGIN:STANDARD
TZNAME:E. Australia Standard Time
DTSTART:19600101T000000
TZOFFSETFROM:+1000
TZOFFSETTO:+1000
END:STANDARD
END:VTIMEZONE
BEGIN:VEVENT
UID:greenbankservicesclub.com.au
DTSTAMP:20260424T055924
DTSTART;TZID=UTC:20260425T190000
DTEND;TZID=UTC:20260718T210000
LOCATION:Bingo Room
SUMMARY:Saturday Evening Bingo
URL:http://greenbankservicesclub.com.au//Whats-On/Saturday-Evening-Bingo
DESCRIPTION:SATURDAY EVENING SESSION! 
1 x $500 Jackpot
1 x $500 Treble
1 x $1,000 Treble
Book 5 Games
Book 15 Games
$22 for 6&1
Doors 5:15pm & Eyes Down 7pm
 
More on Bingo: https://greenbankservicesclub.com.au/Gaming/Bingo \n\nhttp://greenbankservicesclub.com.au/Whats-On/Saturday-Evening-Bingo
X-ALT-DESC;FMTTYPE=text/html:<p><strong>SATURDAY EVENING SESSION! </strong></p><p>1 x $500 Jackpot</p><p>1 x $500 Treble</p><p>1 x $1,000 Treble</p><p>Book 5 Games</p><p>Book 15 Games</p><p>$22 for 6&1</p><p>Doors 5:15pm & Eyes Down 7pm</p><p> </p><p><strong>More on Bingo: <a href="https://greenbankrsl.com.au/Gaming/Bingo">https://greenbankservicesclub.com.au/Gaming/Bingo</a></strong></p> \n\nhttp://greenbankservicesclub.com.au/Whats-On/Saturday-Evening-Bingo
END:VEVENT
END:VCALENDAR