BEGIN:VCALENDAR
VERSION:2.0
PRODID:-//greenbankservicesclub.com.au NONSGML v1.0//EN
BEGIN:VTIMEZONE
TZID:E. Australia Standard Time
X-EM-DISPLAYNAME:(UTC+10:00) Brisbane
BEGIN:STANDARD
TZNAME:E. Australia Standard Time
DTSTART:19600101T000000
TZOFFSETFROM:+1000
TZOFFSETTO:+1000
END:STANDARD
END:VTIMEZONE
BEGIN:VEVENT
UID:greenbankservicesclub.com.au
DTSTAMP:20260420T140111
DTSTART;TZID=UTC:20260601T100000
DTEND;TZID=UTC:20260601T133000
LOCATION:Lounge
SUMMARY:Seniors Club ft Dave Clayton
URL:http://greenbankservicesclub.com.au//Whats-On/Seniors-Club-ft-Dave-Clayton
DESCRIPTION:Enjoy the privilege of being over 60! Greenbank Services Club Seniors Club is just for you! Every Monday, join us and our hosts presenter Donna Lynch & Walter Williams as we dedicate the day to our Seniors' Club Members. Enjoy exclusive promotions, raffles and live entertainment each week.
Dave covers almost all genres of music, from Country to Ballads To Rock & Roll, from the 50’s to the present, covering such artists as Neil Diamond, Tom Jones, John Rowles, Lou Rawles and Elvis.
Free live entertainment. Open to all members & guests. \n\nhttp://greenbankservicesclub.com.au/Whats-On/Seniors-Club-ft-Dave-Clayton
X-ALT-DESC;FMTTYPE=text/html:<p>Enjoy the privilege of being over 60! Greenbank Services Club Seniors Club is just for you! Every Monday, join us and our hosts presenter Donna Lynch & Walter Williams as we dedicate the day to our Seniors' Club Members. Enjoy exclusive promotions, raffles and live entertainment each week.</p><p>Dave covers almost all genres of music, from Country to Ballads To Rock & Roll, from the 50’s to the present, covering such artists as Neil Diamond, Tom Jones, John Rowles, Lou Rawles and Elvis.</p><p>Free live entertainment. Open to all members & guests.</p> \n\nhttp://greenbankservicesclub.com.au/Whats-On/Seniors-Club-ft-Dave-Clayton
END:VEVENT
END:VCALENDAR