BEGIN:VCALENDAR
VERSION:2.0
PRODID:-//greenbankservicesclub.com.au NONSGML v1.0//EN
BEGIN:VTIMEZONE
TZID:E. Australia Standard Time
X-EM-DISPLAYNAME:(UTC+10:00) Brisbane
BEGIN:STANDARD
TZNAME:E. Australia Standard Time
DTSTART:19600101T000000
TZOFFSETFROM:+1000
TZOFFSETTO:+1000
END:STANDARD
END:VTIMEZONE
BEGIN:VEVENT
UID:greenbankservicesclub.com.au
DTSTAMP:20260421T192840
DTSTART;TZID=UTC:20260608T100000
DTEND;TZID=UTC:20260608T133000
LOCATION:Lounge
SUMMARY:Seniors Club ft Dave Gray
URL:http://greenbankservicesclub.com.au//Whats-On/Seniors-Club-ft-Dave-Gray
DESCRIPTION:Enjoy the privilege of being over 60! Greenbank Services Club Seniors Club is just for you! Every Monday, join us and our hosts presenter Donna Lynch & Walter Williams as we dedicate the day to our Seniors' Club Members. Enjoy exclusive promotions, raffles and live entertainment each week.
Dave brings you the best in popular music from the past six decades. Guaranteed to have you dancing all night morning!
Play Local at #yourNEWGreenbank Where the Grass is GreenerFree live event for all members and guests \n\nhttp://greenbankservicesclub.com.au/Whats-On/Seniors-Club-ft-Dave-Gray
X-ALT-DESC;FMTTYPE=text/html:<p>Enjoy the privilege of being over 60! Greenbank Services Club Seniors Club is just for you! Every Monday, join us and our hosts presenter Donna Lynch & Walter Williams as we dedicate the day to our Seniors' Club Members. Enjoy exclusive promotions, raffles and live entertainment each week.</p><p>Dave brings you the best in popular music from the past six decades. Guaranteed to have you dancing all night morning!</p><p>Play Local at <a class="x1i10hfl xjbqb8w x1ejq31n x18oe1m7 x1sy0etr xstzfhl x972fbf x10w94by x1qhh985 x14e42zd x9f619 x1ypdohk xt0psk2 x3ct3a4 xdj266r x14z9mp xat24cr x1lziwak xexx8yu xyri2b x18d9i69 x1c1uobl x16tdsg8 x1hl2dhg xggy1nq x1a2a7pz xkrqix3 x1sur9pj xzsf02u x1s688f" tabindex="0" href="https://www.facebook.com/hashtag/yournewgreenbank?__eep__=6&__cft__[0]=AZXCuSaXCbCEt-Q3w0n-JY9Cp2syjL-qifrDLcAgbPjDavb6VPFfQY7dg9Ue8KPumBvNXFaurXOo8cab9vRhqms57VgCX8VLtcJ7qkvGT8g2vmuD23IHqjjc2Ilo0ySFYHFiJtSrKmjIbH-OVS-yciOd&__tn__=q">#yourNEWGreenbank</a> Where the Grass is Greener<br class="html-br" />Free live event for all members and guests</p> \n\nhttp://greenbankservicesclub.com.au/Whats-On/Seniors-Club-ft-Dave-Gray
END:VEVENT
END:VCALENDAR