BEGIN:VCALENDAR
VERSION:2.0
PRODID:-//greenbankservicesclub.com.au NONSGML v1.0//EN
BEGIN:VTIMEZONE
TZID:E. Australia Standard Time
X-EM-DISPLAYNAME:(UTC+10:00) Brisbane
BEGIN:STANDARD
TZNAME:E. Australia Standard Time
DTSTART:19600101T000000
TZOFFSETFROM:+1000
TZOFFSETTO:+1000
END:STANDARD
END:VTIMEZONE
BEGIN:VEVENT
UID:greenbankservicesclub.com.au
DTSTAMP:20260424T101115
DTSTART;TZID=UTC:20260427T100000
DTEND;TZID=UTC:20260427T133000
LOCATION:Lounge
SUMMARY:Seniors Club ft John Curtin
URL:http://greenbankservicesclub.com.au//Whats-On/Seniors-Club-ft-John-Curtin
DESCRIPTION:Enjoy the privilege of being over 60! Greenbank Services Club Seniors Club is just for you! Every Monday, join us and our hosts presenter Donna Lynch & Walter Williams as we dedicate the day to our Seniors' Club Members. Enjoy exclusive promotions, raffles and live entertainment each week.
John is a singer & guitarist who specialises in playing Classic Hits & Rock'n'Roll music.
Play Local at #yourNEWGreenbank Where the Grass is Greener
Free live event for all members and guests. \n\nhttp://greenbankservicesclub.com.au/Whats-On/Seniors-Club-ft-John-Curtin
X-ALT-DESC;FMTTYPE=text/html:<p>Enjoy the privilege of being over 60! Greenbank Services Club Seniors Club is just for you! Every Monday, join us and our hosts presenter Donna Lynch & Walter Williams as we dedicate the day to our Seniors' Club Members. Enjoy exclusive promotions, raffles and live entertainment each week.</p><p>John is a singer & guitarist who specialises in playing Classic Hits & Rock'n'Roll music.</p><p>Play Local at #yourNEWGreenbank Where the Grass is Greener</p><p>Free live event for all members and guests.</p> \n\nhttp://greenbankservicesclub.com.au/Whats-On/Seniors-Club-ft-John-Curtin
END:VEVENT
END:VCALENDAR