BEGIN:VCALENDAR
VERSION:2.0
PRODID:-//greenbankservicesclub.com.au NONSGML v1.0//EN
BEGIN:VTIMEZONE
TZID:E. Australia Standard Time
X-EM-DISPLAYNAME:(UTC+10:00) Brisbane
BEGIN:STANDARD
TZNAME:E. Australia Standard Time
DTSTART:19600101T000000
TZOFFSETFROM:+1000
TZOFFSETTO:+1000
END:STANDARD
END:VTIMEZONE
BEGIN:VEVENT
UID:greenbankservicesclub.com.au
DTSTAMP:20260423T063827
DTSTART;TZID=UTC:20260708T200000
DTEND;TZID=UTC:20260708T220000
LOCATION:Glasshouse, Lounge & Barrel Room 
SUMMARY:State of Origin Game 3 + Win a Jersey!
URL:http://greenbankservicesclub.com.au//Whats-On/State-of-Origin-Game-3-Win-a-Jersey
DESCRIPTION:Get ready for the ultimate showdown at the 2026 State of Origin games!
 
Join us as we bring you all 3 matches live on the big screens in the Glasshouse, Lounge, and Barrel Room! Feel the adrenaline, cheer for your team, and soak in the electrifying atmosphere.
 
PLUS! This is also your chance to score an official Origin NSW or QLD jersey/ Wear your colors, rally your mates and let’s make this Origin series great!
Don't miss out—be part of the action! Game on! 
 
Terms and conditions apply.


Cold drinks.  Big Games.  Unbeatable atmosphere. Huge Screens in multiple areas! 
Play local at #yourNEWGreenbank- Where the Grass is Greener
Share and invite your friends via Facebook: 
 
Game 3: Wednesday 8th July
 \n\nhttp://greenbankservicesclub.com.au/Whats-On/State-of-Origin-Game-3-Win-a-Jersey
X-ALT-DESC;FMTTYPE=text/html:<div>Get ready for the ultimate showdown at the <strong><a href="https://www.nrl.com/tickets/ampol-state-of-origin/" target="_blank" rel="noopener">2026 State of Origin</a></strong> games!</div><div> </div><div>Join us as we bring you all 3 matches live on the big screens in the <strong><a href="../../Eat-Drink/Bars-/Glasshouse-Sun-Room-" target="_blank" rel="noopener">Glasshouse</a></strong>, <strong><a href="../../Eat-Drink/Bars-/The-Lounge" target="_blank" rel="noopener">Lounge</a></strong>, and <strong><a href="../../Eat-Drink/Bars-/Barrel-Room-" target="_blank" rel="noopener">Barrel Room</a></strong>! Feel the adrenaline, cheer for your team, and soak in the electrifying atmosphere.</div><div> </div><div>PLUS! This is also your chance to score an official Origin NSW or QLD jersey/ Wear your colors, rally your mates and let’s make this Origin series great!</div><div>Don't miss out—be part of the action! Game on! </div><div> </div><div>Terms and conditions apply.</div><div><hr /></div><div><div><strong>Cold drinks.  Big Games.  Unbeatable atmosphere. Huge Screens in multiple areas! </strong></div><div><strong>Play local at #yourNEWGreenbank- Where the Grass is Greener</strong></div><div>Share and invite your friends via Facebook: </div><div> </div><div><strong><a href="https://www.facebook.com/share/1AkzRJTYtK/" target="_blank" rel="noopener">Game 3: Wednesday 8th July</a></strong></div></div> \n\nhttp://greenbankservicesclub.com.au/Whats-On/State-of-Origin-Game-3-Win-a-Jersey
END:VEVENT
END:VCALENDAR