BEGIN:VCALENDAR
VERSION:2.0
PRODID:-//greenbankservicesclub.com.au NONSGML v1.0//EN
BEGIN:VTIMEZONE
TZID:E. Australia Standard Time
X-EM-DISPLAYNAME:(UTC+10:00) Brisbane
BEGIN:STANDARD
TZNAME:E. Australia Standard Time
DTSTART:19600101T000000
TZOFFSETFROM:+1000
TZOFFSETTO:+1000
END:STANDARD
END:VTIMEZONE
BEGIN:VEVENT
UID:greenbankservicesclub.com.au
DTSTAMP:20260424T061030
DTSTART;TZID=UTC:20260426T183000
DTEND;TZID=UTC:20260719T203000
LOCATION:Bingo Room
SUMMARY:Sunday Evening Bingo
URL:http://greenbankservicesclub.com.au//Whats-On/Sunday-Evening-Bingo
DESCRIPTION:SUPER SUNDAY BINGO!
1 x $2,000 in calls*
1 x $500 Treble 
1 x $1,500 Treble
Book of 5 Trebles
Book of 15 Games$23 for 6&1
Doors 5pm - Eyes Down 6:30pm
 More on Bingo: https://greenbankservicesclub.com.au/Gaming/Bingo
  \n\nhttp://greenbankservicesclub.com.au/Whats-On/Sunday-Evening-Bingo
X-ALT-DESC;FMTTYPE=text/html:<p><strong>SUPER SUNDAY BINGO!</strong></p><p>1 x $2,000 in calls*</p><p>1 x $500 Treble </p><p>1 x $1,500 Treble</p><p>Book of 5 Trebles</p><p>Book of 15 Games<br /><strong><br /><br />$23 for 6&1</strong></p><p>Doors 5pm - Eyes Down 6:30pm</p><p> <strong>More on Bingo: <a href="https://greenbankrsl.com.au/Gaming/Bingo">https://greenbankservicesclub.com.au/Gaming/Bingo</a></strong></p><p> </p> \n\nhttp://greenbankservicesclub.com.au/Whats-On/Sunday-Evening-Bingo
END:VEVENT
END:VCALENDAR