BEGIN:VCALENDAR
VERSION:2.0
PRODID:-//greenbankservicesclub.com.au NONSGML v1.0//EN
BEGIN:VTIMEZONE
TZID:E. Australia Standard Time
X-EM-DISPLAYNAME:(UTC+10:00) Brisbane
BEGIN:STANDARD
TZNAME:E. Australia Standard Time
DTSTART:19600101T000000
TZOFFSETFROM:+1000
TZOFFSETTO:+1000
END:STANDARD
END:VTIMEZONE
BEGIN:VEVENT
UID:greenbankservicesclub.com.au
DTSTAMP:20260423T110641
DTSTART;TZID=UTC:20260506T190000
DTEND;TZID=UTC:20260506T213000
LOCATION:Glasshouse & Barrel Room
SUMMARY:Tszyu vs Diaz
URL:http://greenbankservicesclub.com.au//Whats-On/Tszyu-vs-Diaz-1
DESCRIPTION:

Settle in for a premium fight night experience as Nikita Tszyu steps into the ring against Oscar Diaz in a highly anticipated boxing showdown.
With Tszyu looking to make another statement and Diaz bringing plenty of confidence into the bout, this is a clash that promises intensity, skill and big-fight energy from the opening bell.


Cold drinks.  Big fights.  Unbeatable atmosphere. Huge Screens in multiple areas! 
Play local at #yourNEWGreenbank- Where the Grass is Greener. 
Share and invite your friends via our Facebook Event Link

  \n\nhttp://greenbankservicesclub.com.au/Whats-On/Tszyu-vs-Diaz-1
X-ALT-DESC;FMTTYPE=text/html:<div><div><div class="x11i5rnm xat24cr x1mh8g0r x1vvkbs xtlvy1s">Settle in for a premium fight night experience as <strong data-start="187" data-end="203">Nikita Tszyu</strong> steps into the ring against <strong data-start="232" data-end="246">Oscar Diaz </strong>in a highly anticipated boxing showdown.</div><div class="x11i5rnm xat24cr x1mh8g0r x1vvkbs xtlvy1s">With Tszyu looking to make another statement and Diaz bringing plenty of confidence into the bout, this is a clash that promises intensity, skill and big-fight energy from the opening bell.</div><div class="x11i5rnm xat24cr x1mh8g0r x1vvkbs xtlvy1s"><hr /></div></div><div>Cold drinks.  Big fights.  Unbeatable atmosphere. Huge Screens in multiple areas! </div><div><strong>Play local at #yourNEWGreenbank- Where the Grass is Greener. </strong></div><div>Share and invite your friends via our<a href="https://www.facebook.com/share/18TVXPcz6v/" target="_blank" rel="noopener"> <strong>Facebook Event Link</strong></a></div></div><div> </div> \n\nhttp://greenbankservicesclub.com.au/Whats-On/Tszyu-vs-Diaz-1
END:VEVENT
END:VCALENDAR