BEGIN:VCALENDAR
VERSION:2.0
PRODID:-//greenbankservicesclub.com.au NONSGML v1.0//EN
BEGIN:VTIMEZONE
TZID:E. Australia Standard Time
X-EM-DISPLAYNAME:(UTC+10:00) Brisbane
BEGIN:STANDARD
TZNAME:E. Australia Standard Time
DTSTART:19600101T000000
TZOFFSETFROM:+1000
TZOFFSETTO:+1000
END:STANDARD
END:VTIMEZONE
BEGIN:VEVENT
UID:greenbankservicesclub.com.au
DTSTAMP:20260423T093538
DTSTART;TZID=UTC:20260510T110000
DTEND;TZID=UTC:20260510T153000
LOCATION:Glasshouse, Barrel Room & Lounge
SUMMARY:UFC 327- Chimaev vs Strickland
URL:http://greenbankservicesclub.com.au//Whats-On/UFC-327-Chimaev-vs-Strickland
DESCRIPTION: 


Watch Khamzat Chimaev and Sean Strickland go head-to-head in a blockbuster main event, with the UFC Flyweight Championship co-main also locked in as Joshua Van takes on Tatsuro Taira.
 
With two huge title fights on the card, expect big moments, hard-hitting action and the ultimate fight day atmosphere live and loud on the big screens. 
Preliminary Cards from 10am

 
Cold drinks.  Big fights.  Unbeatable atmosphere. Huge Screens in multiple areas! 
Don't miss out on UFC 328!

Play local at #YourNewGreenbank - Where the Grass is Greener.
Bar and food specials available. 
  \n\nhttp://greenbankservicesclub.com.au/Whats-On/UFC-327-Chimaev-vs-Strickland
X-ALT-DESC;FMTTYPE=text/html:<div> </div><div><div><div>Watch Khamzat Chimaev and Sean Strickland go head-to-head in a blockbuster main event, with the UFC Flyweight Championship co-main also locked in as Joshua Van takes on Tatsuro Taira.</div><div> </div><div>With two huge title fights on the card, expect big moments, hard-hitting action and the ultimate fight day atmosphere live and loud on the big screens. </div><div>Preliminary Cards from 10am</div></div><div> </div><div data-start="483" data-end="737">Cold drinks.  Big fights.  Unbeatable atmosphere. Huge Screens in multiple areas! </div><div data-start="483" data-end="737">Don't miss out on UFC 328!</div><div><hr /></div><div><strong>Play local at #YourNewGreenbank - Where the Grass is Greener.</strong></div><div>Bar and food specials available. </div> </div> \n\nhttp://greenbankservicesclub.com.au/Whats-On/UFC-327-Chimaev-vs-Strickland
END:VEVENT
END:VCALENDAR