BEGIN:VCALENDAR
VERSION:2.0
PRODID:-//greenbankservicesclub.com.au NONSGML v1.0//EN
BEGIN:VTIMEZONE
TZID:E. Australia Standard Time
X-EM-DISPLAYNAME:(UTC+10:00) Brisbane
BEGIN:STANDARD
TZNAME:E. Australia Standard Time
DTSTART:19600101T000000
TZOFFSETFROM:+1000
TZOFFSETTO:+1000
END:STANDARD
END:VTIMEZONE
BEGIN:VEVENT
UID:greenbankservicesclub.com.au
DTSTAMP:20260423T040205
DTSTART;TZID=UTC:20260529T190000
DTEND;TZID=UTC:20260529T213000
LOCATION:Club Wide
SUMMARY:Unlock the Loot- Grand Finale Draws
URL:http://greenbankservicesclub.com.au//Whats-On/Unlock-the-Loot-Grand-Finale-Draws
DESCRIPTION:
The loot is locked, the cash is stacked with up to $34,000 to share in this month of May!
TEntry is generated with every $5 spend in food, beverage, bingo or with $5 turnover in Gaming with correct use of your membership card. 

Keep gambling enjoyable, gamble responsibly. Must be present to win. Open to members only. Terms and conditions apply.








Not a Member of the Club? You should be! Join for as little as $5.



Click here to download our Membership form & discover all the amazing benefits of being a Member!







Check out what else is on at your favourite Club by clicking here.
This page is not intended for minors or excluded patrons. 


 \n\nhttp://greenbankservicesclub.com.au/Whats-On/Unlock-the-Loot-Grand-Finale-Draws
X-ALT-DESC;FMTTYPE=text/html:<div><div class="o9v6fnle cxmmr5t8 oygrvhab hcukyx3x c1et5uql">The loot is locked, the cash is stacked with up to $34,000 to share in this month of May!</div><div class="o9v6fnle cxmmr5t8 oygrvhab hcukyx3x c1et5uql">TEntry is generated with every $5 spend in food, beverage, bingo or with $5 turnover in Gaming with correct use of your membership card. </div></div><p><em>Keep gambling enjoyable, gamble responsibly. Must be present to win. Open to members only. Terms and conditions apply.</em></p><div><div><hr /></div><div><div class="kvgmc6g5 cxmmr5t8 oygrvhab hcukyx3x c1et5uql"><div class="kvgmc6g5 cxmmr5t8 oygrvhab hcukyx3x c1et5uql"><div class="kvgmc6g5 cxmmr5t8 oygrvhab hcukyx3x c1et5uql"><div class="kvgmc6g5 cxmmr5t8 oygrvhab hcukyx3x c1et5uql"><div><div class="o9v6fnle cxmmr5t8 oygrvhab hcukyx3x c1et5uql">Not a Member of the Club? You should be! Join for as little as $5.</div></div><div><div><div><a href="../../Membership"><em><strong>Click here</strong> </em></a>to download our Membership form & discover all the amazing benefits of being a Member!</div></div></div></div></div></div></div><div><div><em><a href="../../Whats-On">Check out what else is on at your favourite Club by clicking here.</a></em></div><div><em>This page is not intended for minors or excluded patrons. </em></div></div></div></div> \n\nhttp://greenbankservicesclub.com.au/Whats-On/Unlock-the-Loot-Grand-Finale-Draws
END:VEVENT
END:VCALENDAR