BEGIN:VCALENDAR
VERSION:2.0
PRODID:-//greenbankservicesclub.com.au NONSGML v1.0//EN
BEGIN:VTIMEZONE
TZID:E. Australia Standard Time
X-EM-DISPLAYNAME:(UTC+10:00) Brisbane
BEGIN:STANDARD
TZNAME:E. Australia Standard Time
DTSTART:19600101T000000
TZOFFSETFROM:+1000
TZOFFSETTO:+1000
END:STANDARD
END:VTIMEZONE
BEGIN:VEVENT
UID:greenbankservicesclub.com.au
DTSTAMP:20260423T081113
DTSTART;TZID=UTC:20260429T190000
DTEND;TZID=UTC:20260722T210000
LOCATION:Bingo Room
SUMMARY:Wednesday Evening Bingo
URL:http://greenbankservicesclub.com.au//Whats-On/Wednesday-Evening-Bingo
DESCRIPTION:IS IT YOUR TURN TO CALL "BINGO?"
1 X $400 Treble
1 x $500 Jackpot
1 x $1,000 Treble
Book of 5 Trebles
Book of 15 Games$23 for 6&1
Doors 5:15pm - Eyes Down 7pm
 
More on Bingo: https://greenbankservicesclub.com.au/Gaming/Bingo
  \n\nhttp://greenbankservicesclub.com.au/Whats-On/Wednesday-Evening-Bingo
X-ALT-DESC;FMTTYPE=text/html:<p><strong>IS IT YOUR TURN TO CALL "BINGO?"</strong></p><p>1 X $400 Treble</p><p>1 x $500 Jackpot</p><p>1 x $1,000 Treble</p><p>Book of 5 Trebles</p><p>Book of 15 Games<br /><br /><br /><strong>$23 for 6&1</strong></p><p>Doors 5:15pm - Eyes Down 7pm</p><p> </p><p><strong>More on Bingo: <a href="https://greenbankrsl.com.au/Gaming/Bingo">https://greenbankservicesclub.com.au/Gaming/Bingo</a></strong></p><p> </p> \n\nhttp://greenbankservicesclub.com.au/Whats-On/Wednesday-Evening-Bingo
END:VEVENT
END:VCALENDAR