BEGIN:VCALENDAR
VERSION:2.0
PRODID:-//greenbankservicesclub.com.au NONSGML v1.0//EN
BEGIN:VTIMEZONE
TZID:E. Australia Standard Time
X-EM-DISPLAYNAME:(UTC+10:00) Brisbane
BEGIN:STANDARD
TZNAME:E. Australia Standard Time
DTSTART:19600101T000000
TZOFFSETFROM:+1000
TZOFFSETTO:+1000
END:STANDARD
END:VTIMEZONE
BEGIN:VEVENT
UID:greenbankservicesclub.com.au
DTSTAMP:20260423T115609
DTSTART;TZID=UTC:20260521T160000
DTEND;TZID=UTC:20260521T161000
LOCATION:Club Wide
SUMMARY:Win a 2026 XXXX Ultra SOO VIP Experience- Drawn today!
URL:http://greenbankservicesclub.com.au//Whats-On/Win-a-2026-XXXX-Ultra-SOO-VIP-Experience-Drawn-today
DESCRIPTION:Get the best seats in the house in front of the 4 metre BIG screens in Glasshouse! 
Automatic vitual entry with every XXXX Ultra product purchased club wide
Prize includes footy food, beverage PLUS a take home camping chair! One experience to be won each Thursday before the BIG games.
 

Play local at #yourNEWGreenbank- Where the Grass is Greener
Share and invite your friends via Facebook: 
Game 1: Wednesday 27th May
Game 2: Wednesday 17th June
Game 3: Wednesday 8th July

 
Terms and conditions apply. \n\nhttp://greenbankservicesclub.com.au/Whats-On/Win-a-2026-XXXX-Ultra-SOO-VIP-Experience-Drawn-today
X-ALT-DESC;FMTTYPE=text/html:<div>Get the best seats in the house in front of the 4 metre BIG screens in Glasshouse! </div><div>Automatic vitual entry with every XXXX Ultra product purchased club wide</div><div>Prize includes footy food, beverage PLUS a take home camping chair! One experience to be won each Thursday before the BIG games.</div><div> </div><div><div><strong>Play local at #yourNEWGreenbank- Where the Grass is Greener</strong></div><div>Share and invite your friends via Facebook: </div><div><strong><a href="https://www.facebook.com/share/1G72xxWGyC/" target="_blank" rel="noopener">Game 1: Wednesday 27th May</a></strong></div><div><strong><a href="https://www.facebook.com/share/1aim4VWfQ2/" target="_blank" rel="noopener">Game 2: Wednesday 17th June</a></strong></div><div><strong><a href="https://www.facebook.com/share/18RN7JnyCn/" target="_blank" rel="noopener">Game 3: Wednesday 8th July</a></strong></div></div><div> </div><div>Terms and conditions apply.</div> \n\nhttp://greenbankservicesclub.com.au/Whats-On/Win-a-2026-XXXX-Ultra-SOO-VIP-Experience-Drawn-today
END:VEVENT
END:VCALENDAR