BEGIN:VCALENDAR
VERSION:2.0
PRODID:-//greenbankservicesclub.com.au NONSGML v1.0//EN
BEGIN:VTIMEZONE
TZID:E. Australia Standard Time
X-EM-DISPLAYNAME:(UTC+10:00) Brisbane
BEGIN:STANDARD
TZNAME:E. Australia Standard Time
DTSTART:19600101T000000
TZOFFSETFROM:+1000
TZOFFSETTO:+1000
END:STANDARD
END:VTIMEZONE
BEGIN:VEVENT
UID:greenbankservicesclub.com.au
DTSTAMP:20260419T144333
DTSTART;TZID=UTC:20260420T180000
DTEND;TZID=UTC:20260713T220000
LOCATION:Lounge
SUMMARY:World Poker Tour 
URL:http://greenbankservicesclub.com.au//Whats-On/World-Poker-Tour-
DESCRIPTION:We're not bluffing - join us for WPT Poker. Are you all in? 6pm registration for 6.30pm start. $25 buy in $1,000 guaranteed pot \n\nhttp://greenbankservicesclub.com.au/Whats-On/World-Poker-Tour-
X-ALT-DESC;FMTTYPE=text/html:<p>We're not bluffing - join us for WPT Poker. Are you all in? 6pm registration for 6.30pm start. $25 buy in $1,000 guaranteed pot</p> \n\nhttp://greenbankservicesclub.com.au/Whats-On/World-Poker-Tour-
END:VEVENT
END:VCALENDAR